BEGIN:VCALENDAR
VERSION:2.0
PRODID:-//Family Pathways - ECPv6.15.20//NONSGML v1.0//EN
CALSCALE:GREGORIAN
METHOD:PUBLISH
X-WR-CALNAME:Family Pathways
X-ORIGINAL-URL:https://www.familypathways.org
X-WR-CALDESC:Events for Family Pathways
REFRESH-INTERVAL;VALUE=DURATION:PT1H
X-Robots-Tag:noindex
X-PUBLISHED-TTL:PT1H
BEGIN:VTIMEZONE
TZID:America/Chicago
BEGIN:DAYLIGHT
TZOFFSETFROM:-0600
TZOFFSETTO:-0500
TZNAME:CDT
DTSTART:20240310T080000
END:DAYLIGHT
BEGIN:STANDARD
TZOFFSETFROM:-0500
TZOFFSETTO:-0600
TZNAME:CST
DTSTART:20241103T070000
END:STANDARD
BEGIN:DAYLIGHT
TZOFFSETFROM:-0600
TZOFFSETTO:-0500
TZNAME:CDT
DTSTART:20250309T080000
END:DAYLIGHT
BEGIN:STANDARD
TZOFFSETFROM:-0500
TZOFFSETTO:-0600
TZNAME:CST
DTSTART:20251102T070000
END:STANDARD
BEGIN:DAYLIGHT
TZOFFSETFROM:-0600
TZOFFSETTO:-0500
TZNAME:CDT
DTSTART:20260308T080000
END:DAYLIGHT
BEGIN:STANDARD
TZOFFSETFROM:-0500
TZOFFSETTO:-0600
TZNAME:CST
DTSTART:20261101T070000
END:STANDARD
END:VTIMEZONE
BEGIN:VEVENT
DTSTART;VALUE=DATE:20250623
DTEND;VALUE=DATE:20250624
DTSTAMP:20260421T194035
CREATED:20250519T165345Z
LAST-MODIFIED:20250519T165345Z
UID:10009005-1750636800-1750723199@www.familypathways.org
SUMMARY:Double Pathways Perks Points
DESCRIPTION:Earn double Pathways Perks Points on a minimum $15 purchase each Monday. \n*This promotion may be suspended in concurrence with other sale events and promotions. Double points are applied to the pre-tax qualifying purchase amount. Double points will not be applied to other bonuses\, including but not limited to Welcome Bonus Points\, Birthday Bonus Points\, or Donation Loyalty Rewards.
URL:https://www.familypathways.org/calendar-event/double-pathways-perks-points-4/2025-06-23/
CATEGORIES:Thrift Stores
END:VEVENT
BEGIN:VEVENT
DTSTART;VALUE=DATE:20250624
DTEND;VALUE=DATE:20250625
DTSTAMP:20260421T194035
CREATED:20190301T180920Z
LAST-MODIFIED:20241010T195355Z
UID:10008621-1750723200-1750809599@www.familypathways.org
SUMMARY:Senior/Military Discount Day
DESCRIPTION:Every Tuesday\, seniors and members of the military receive an additional 25% off their entire purchase. Some exclusions may apply. May not be combined with Road Trip Sales\, coupons\, or other discounts.
URL:https://www.familypathways.org/calendar-event/senior-military-discount-day/2025-06-24/
LOCATION:All Family Pathways Thrift Store Locations
CATEGORIES:Thrift Stores
END:VEVENT
BEGIN:VEVENT
DTSTART;VALUE=DATE:20250625
DTEND;VALUE=DATE:20250626
DTSTAMP:20260421T194035
CREATED:20250519T155911Z
LAST-MODIFIED:20250519T155916Z
UID:10008987-1750809600-1750895999@www.familypathways.org
SUMMARY:90% off Green Tags
DESCRIPTION:90% off Green Tags
URL:https://www.familypathways.org/calendar-event/90-off-green-tags-18/
CATEGORIES:Thrift Stores
END:VEVENT
BEGIN:VEVENT
DTSTART;VALUE=DATE:20250630
DTEND;VALUE=DATE:20250701
DTSTAMP:20260421T194035
CREATED:20250519T165345Z
LAST-MODIFIED:20250519T165345Z
UID:10009006-1751241600-1751327999@www.familypathways.org
SUMMARY:Double Pathways Perks Points
DESCRIPTION:Earn double Pathways Perks Points on a minimum $15 purchase each Monday. \n*This promotion may be suspended in concurrence with other sale events and promotions. Double points are applied to the pre-tax qualifying purchase amount. Double points will not be applied to other bonuses\, including but not limited to Welcome Bonus Points\, Birthday Bonus Points\, or Donation Loyalty Rewards.
URL:https://www.familypathways.org/calendar-event/double-pathways-perks-points-4/2025-06-30/
CATEGORIES:Thrift Stores
END:VEVENT
BEGIN:VEVENT
DTSTART;VALUE=DATE:20250701
DTEND;VALUE=DATE:20250702
DTSTAMP:20260421T194035
CREATED:20190301T180920Z
LAST-MODIFIED:20241010T195355Z
UID:10008622-1751328000-1751414399@www.familypathways.org
SUMMARY:Senior/Military Discount Day
DESCRIPTION:Every Tuesday\, seniors and members of the military receive an additional 25% off their entire purchase. Some exclusions may apply. May not be combined with Road Trip Sales\, coupons\, or other discounts.
URL:https://www.familypathways.org/calendar-event/senior-military-discount-day/2025-07-01/
LOCATION:All Family Pathways Thrift Store Locations
CATEGORIES:Thrift Stores
END:VEVENT
BEGIN:VEVENT
DTSTART;VALUE=DATE:20250702
DTEND;VALUE=DATE:20250703
DTSTAMP:20260421T194035
CREATED:20250519T160010Z
LAST-MODIFIED:20250519T160010Z
UID:10008988-1751414400-1751500799@www.familypathways.org
SUMMARY:25% off Blue Tags
DESCRIPTION:25% off Blue Tags
URL:https://www.familypathways.org/calendar-event/25-off-blue-tags-44/2025-07-02/
CATEGORIES:Thrift Stores
END:VEVENT
BEGIN:VEVENT
DTSTART;VALUE=DATE:20250703
DTEND;VALUE=DATE:20250704
DTSTAMP:20260421T194035
CREATED:20250519T160010Z
LAST-MODIFIED:20250519T160010Z
UID:10008989-1751500800-1751587199@www.familypathways.org
SUMMARY:25% off Blue Tags
DESCRIPTION:25% off Blue Tags
URL:https://www.familypathways.org/calendar-event/25-off-blue-tags-44/2025-07-03/
CATEGORIES:Thrift Stores
END:VEVENT
BEGIN:VEVENT
DTSTART;VALUE=DATE:20250704
DTEND;VALUE=DATE:20250705
DTSTAMP:20260421T194035
CREATED:20250519T160329Z
LAST-MODIFIED:20250519T160329Z
UID:10008997-1751587200-1751673599@www.familypathways.org
SUMMARY:Closed for Fourth of July
DESCRIPTION:All Family Pathways Thrift Stores will be closed for the Fourth of July
URL:https://www.familypathways.org/calendar-event/closed-for-fourth-of-july/
CATEGORIES:Thrift Stores
END:VEVENT
BEGIN:VEVENT
DTSTART;VALUE=DATE:20250707
DTEND;VALUE=DATE:20250708
DTSTAMP:20260421T194035
CREATED:20250519T165345Z
LAST-MODIFIED:20250519T165345Z
UID:10009007-1751846400-1751932799@www.familypathways.org
SUMMARY:Double Pathways Perks Points
DESCRIPTION:Earn double Pathways Perks Points on a minimum $15 purchase each Monday. \n*This promotion may be suspended in concurrence with other sale events and promotions. Double points are applied to the pre-tax qualifying purchase amount. Double points will not be applied to other bonuses\, including but not limited to Welcome Bonus Points\, Birthday Bonus Points\, or Donation Loyalty Rewards.
URL:https://www.familypathways.org/calendar-event/double-pathways-perks-points-4/2025-07-07/
CATEGORIES:Thrift Stores
END:VEVENT
BEGIN:VEVENT
DTSTART;VALUE=DATE:20250708
DTEND;VALUE=DATE:20250709
DTSTAMP:20260421T194035
CREATED:20190301T180920Z
LAST-MODIFIED:20241010T195355Z
UID:10008623-1751932800-1752019199@www.familypathways.org
SUMMARY:Senior/Military Discount Day
DESCRIPTION:Every Tuesday\, seniors and members of the military receive an additional 25% off their entire purchase. Some exclusions may apply. May not be combined with Road Trip Sales\, coupons\, or other discounts.
URL:https://www.familypathways.org/calendar-event/senior-military-discount-day/2025-07-08/
LOCATION:All Family Pathways Thrift Store Locations
CATEGORIES:Thrift Stores
END:VEVENT
BEGIN:VEVENT
DTSTART;TZID=America/Chicago:20250709T080000
DTEND;TZID=America/Chicago:20250709T170000
DTSTAMP:20260421T194035
CREATED:20250519T160104Z
LAST-MODIFIED:20250519T160104Z
UID:10008990-1752048000-1752080400@www.familypathways.org
SUMMARY:25% off Orange Tags
DESCRIPTION:25% off Orange Tags
URL:https://www.familypathways.org/calendar-event/25-off-orange-tags-26/2025-07-09/
CATEGORIES:Thrift Stores
END:VEVENT
BEGIN:VEVENT
DTSTART;TZID=America/Chicago:20250710T080000
DTEND;TZID=America/Chicago:20250710T170000
DTSTAMP:20260421T194035
CREATED:20250519T160104Z
LAST-MODIFIED:20250519T160104Z
UID:10008991-1752134400-1752166800@www.familypathways.org
SUMMARY:25% off Orange Tags
DESCRIPTION:25% off Orange Tags
URL:https://www.familypathways.org/calendar-event/25-off-orange-tags-26/2025-07-10/
CATEGORIES:Thrift Stores
END:VEVENT
BEGIN:VEVENT
DTSTART;VALUE=DATE:20250714
DTEND;VALUE=DATE:20250715
DTSTAMP:20260421T194035
CREATED:20250519T165345Z
LAST-MODIFIED:20250519T165345Z
UID:10009008-1752451200-1752537599@www.familypathways.org
SUMMARY:Double Pathways Perks Points
DESCRIPTION:Earn double Pathways Perks Points on a minimum $15 purchase each Monday. \n*This promotion may be suspended in concurrence with other sale events and promotions. Double points are applied to the pre-tax qualifying purchase amount. Double points will not be applied to other bonuses\, including but not limited to Welcome Bonus Points\, Birthday Bonus Points\, or Donation Loyalty Rewards.
URL:https://www.familypathways.org/calendar-event/double-pathways-perks-points-4/2025-07-14/
CATEGORIES:Thrift Stores
END:VEVENT
BEGIN:VEVENT
DTSTART;VALUE=DATE:20250715
DTEND;VALUE=DATE:20250716
DTSTAMP:20260421T194035
CREATED:20190301T180920Z
LAST-MODIFIED:20241010T195355Z
UID:10008624-1752537600-1752623999@www.familypathways.org
SUMMARY:Senior/Military Discount Day
DESCRIPTION:Every Tuesday\, seniors and members of the military receive an additional 25% off their entire purchase. Some exclusions may apply. May not be combined with Road Trip Sales\, coupons\, or other discounts.
URL:https://www.familypathways.org/calendar-event/senior-military-discount-day/2025-07-15/
LOCATION:All Family Pathways Thrift Store Locations
CATEGORIES:Thrift Stores
END:VEVENT
BEGIN:VEVENT
DTSTART;VALUE=DATE:20250716
DTEND;VALUE=DATE:20250717
DTSTAMP:20260421T194035
CREATED:20250519T160135Z
LAST-MODIFIED:20250519T160135Z
UID:10008992-1752624000-1752710399@www.familypathways.org
SUMMARY:50% off Orange Tags
DESCRIPTION:50% off Orange Tags
URL:https://www.familypathways.org/calendar-event/50-off-orange-tags-28/2025-07-16/
CATEGORIES:Thrift Stores
END:VEVENT
BEGIN:VEVENT
DTSTART;VALUE=DATE:20250717
DTEND;VALUE=DATE:20250718
DTSTAMP:20260421T194035
CREATED:20250519T160135Z
LAST-MODIFIED:20250519T160135Z
UID:10008993-1752710400-1752796799@www.familypathways.org
SUMMARY:50% off Orange Tags
DESCRIPTION:50% off Orange Tags
URL:https://www.familypathways.org/calendar-event/50-off-orange-tags-28/2025-07-17/
CATEGORIES:Thrift Stores
END:VEVENT
BEGIN:VEVENT
DTSTART;TZID=America/Chicago:20250718T090000
DTEND;TZID=America/Chicago:20250718T190000
DTSTAMP:20260421T194035
CREATED:20250519T164043Z
LAST-MODIFIED:20250709T165039Z
UID:10009263-1752829200-1752865200@www.familypathways.org
SUMMARY:Thrift-a-Con
DESCRIPTION:From Aquaman to Zombies\, you’ll find a treasure trove of merchandise at Thrift-a-Con at Family Pathways Thrift Stores in Wyoming! Join us on July 18 & 19 for an epic celebration of all things superhero\, retro toys\, sci-fi\, comics\, and more! \nNew this year — Purchase a Nerdy Bird ticket to gain early access! Tickets are on sale now at the Wyoming Thrift Store!
URL:https://www.familypathways.org/calendar-event/thrift-a-con/2025-07-18/
CATEGORIES:Thrift Stores
END:VEVENT
BEGIN:VEVENT
DTSTART;TZID=America/Chicago:20250719T090000
DTEND;TZID=America/Chicago:20250719T180000
DTSTAMP:20260421T194035
CREATED:20250519T164043Z
LAST-MODIFIED:20250709T165039Z
UID:10009264-1752915600-1752948000@www.familypathways.org
SUMMARY:Thrift-a-Con
DESCRIPTION:From Aquaman to Zombies\, you’ll find a treasure trove of merchandise at Thrift-a-Con at Family Pathways Thrift Stores in Wyoming! Join us on July 18 & 19 for an epic celebration of all things superhero\, retro toys\, sci-fi\, comics\, and more! \nNew this year — Purchase a Nerdy Bird ticket to gain early access! Tickets are on sale now at the Wyoming Thrift Store!
URL:https://www.familypathways.org/calendar-event/thrift-a-con/2025-07-19/
CATEGORIES:Thrift Stores
END:VEVENT
BEGIN:VEVENT
DTSTART;VALUE=DATE:20250721
DTEND;VALUE=DATE:20250722
DTSTAMP:20260421T194035
CREATED:20250519T165345Z
LAST-MODIFIED:20250519T165345Z
UID:10009009-1753056000-1753142399@www.familypathways.org
SUMMARY:Double Pathways Perks Points
DESCRIPTION:Earn double Pathways Perks Points on a minimum $15 purchase each Monday. \n*This promotion may be suspended in concurrence with other sale events and promotions. Double points are applied to the pre-tax qualifying purchase amount. Double points will not be applied to other bonuses\, including but not limited to Welcome Bonus Points\, Birthday Bonus Points\, or Donation Loyalty Rewards.
URL:https://www.familypathways.org/calendar-event/double-pathways-perks-points-4/2025-07-21/
CATEGORIES:Thrift Stores
END:VEVENT
BEGIN:VEVENT
DTSTART;VALUE=DATE:20250722
DTEND;VALUE=DATE:20250723
DTSTAMP:20260421T194035
CREATED:20190301T180920Z
LAST-MODIFIED:20241010T195355Z
UID:10008625-1753142400-1753228799@www.familypathways.org
SUMMARY:Senior/Military Discount Day
DESCRIPTION:Every Tuesday\, seniors and members of the military receive an additional 25% off their entire purchase. Some exclusions may apply. May not be combined with Road Trip Sales\, coupons\, or other discounts.
URL:https://www.familypathways.org/calendar-event/senior-military-discount-day/2025-07-22/
LOCATION:All Family Pathways Thrift Store Locations
CATEGORIES:Thrift Stores
END:VEVENT
BEGIN:VEVENT
DTSTART;VALUE=DATE:20250723
DTEND;VALUE=DATE:20250724
DTSTAMP:20260421T194035
CREATED:20250519T160215Z
LAST-MODIFIED:20250519T160215Z
UID:10008994-1753228800-1753315199@www.familypathways.org
SUMMARY:75% off Orange Tags
DESCRIPTION:75% off Orange Tags
URL:https://www.familypathways.org/calendar-event/75-off-orange-tags-12/2025-07-23/
CATEGORIES:Thrift Stores
END:VEVENT
BEGIN:VEVENT
DTSTART;VALUE=DATE:20250724
DTEND;VALUE=DATE:20250725
DTSTAMP:20260421T194035
CREATED:20250519T160215Z
LAST-MODIFIED:20250519T160215Z
UID:10008995-1753315200-1753401599@www.familypathways.org
SUMMARY:75% off Orange Tags
DESCRIPTION:75% off Orange Tags
URL:https://www.familypathways.org/calendar-event/75-off-orange-tags-12/2025-07-24/
CATEGORIES:Thrift Stores
END:VEVENT
BEGIN:VEVENT
DTSTART;VALUE=DATE:20250728
DTEND;VALUE=DATE:20250729
DTSTAMP:20260421T194035
CREATED:20250519T165345Z
LAST-MODIFIED:20250519T165345Z
UID:10009010-1753660800-1753747199@www.familypathways.org
SUMMARY:Double Pathways Perks Points
DESCRIPTION:Earn double Pathways Perks Points on a minimum $15 purchase each Monday. \n*This promotion may be suspended in concurrence with other sale events and promotions. Double points are applied to the pre-tax qualifying purchase amount. Double points will not be applied to other bonuses\, including but not limited to Welcome Bonus Points\, Birthday Bonus Points\, or Donation Loyalty Rewards.
URL:https://www.familypathways.org/calendar-event/double-pathways-perks-points-4/2025-07-28/
CATEGORIES:Thrift Stores
END:VEVENT
BEGIN:VEVENT
DTSTART;VALUE=DATE:20250729
DTEND;VALUE=DATE:20250730
DTSTAMP:20260421T194035
CREATED:20190301T180920Z
LAST-MODIFIED:20241010T195355Z
UID:10008626-1753747200-1753833599@www.familypathways.org
SUMMARY:Senior/Military Discount Day
DESCRIPTION:Every Tuesday\, seniors and members of the military receive an additional 25% off their entire purchase. Some exclusions may apply. May not be combined with Road Trip Sales\, coupons\, or other discounts.
URL:https://www.familypathways.org/calendar-event/senior-military-discount-day/2025-07-29/
LOCATION:All Family Pathways Thrift Store Locations
CATEGORIES:Thrift Stores
END:VEVENT
BEGIN:VEVENT
DTSTART;VALUE=DATE:20250730
DTEND;VALUE=DATE:20250731
DTSTAMP:20260421T194035
CREATED:20250519T160239Z
LAST-MODIFIED:20250519T160239Z
UID:10008996-1753833600-1753919999@www.familypathways.org
SUMMARY:90% off Orange Tags
DESCRIPTION:90% off Orange Tags
URL:https://www.familypathways.org/calendar-event/90-off-orange-tags-20/
CATEGORIES:Thrift Stores
END:VEVENT
BEGIN:VEVENT
DTSTART;VALUE=DATE:20250804
DTEND;VALUE=DATE:20250805
DTSTAMP:20260421T194035
CREATED:20250519T165345Z
LAST-MODIFIED:20250519T165345Z
UID:10009011-1754265600-1754351999@www.familypathways.org
SUMMARY:Double Pathways Perks Points
DESCRIPTION:Earn double Pathways Perks Points on a minimum $15 purchase each Monday. \n*This promotion may be suspended in concurrence with other sale events and promotions. Double points are applied to the pre-tax qualifying purchase amount. Double points will not be applied to other bonuses\, including but not limited to Welcome Bonus Points\, Birthday Bonus Points\, or Donation Loyalty Rewards.
URL:https://www.familypathways.org/calendar-event/double-pathways-perks-points-4/2025-08-04/
CATEGORIES:Thrift Stores
END:VEVENT
BEGIN:VEVENT
DTSTART;VALUE=DATE:20250805
DTEND;VALUE=DATE:20250806
DTSTAMP:20260421T194035
CREATED:20190301T180920Z
LAST-MODIFIED:20241010T195355Z
UID:10008627-1754352000-1754438399@www.familypathways.org
SUMMARY:Senior/Military Discount Day
DESCRIPTION:Every Tuesday\, seniors and members of the military receive an additional 25% off their entire purchase. Some exclusions may apply. May not be combined with Road Trip Sales\, coupons\, or other discounts.
URL:https://www.familypathways.org/calendar-event/senior-military-discount-day/2025-08-05/
LOCATION:All Family Pathways Thrift Store Locations
CATEGORIES:Thrift Stores
END:VEVENT
BEGIN:VEVENT
DTSTART;VALUE=DATE:20250806
DTEND;VALUE=DATE:20250807
DTSTAMP:20260421T194035
CREATED:20250616T170026Z
LAST-MODIFIED:20250616T170026Z
UID:10009256-1754438400-1754524799@www.familypathways.org
SUMMARY:25% off Yellow Tags
DESCRIPTION:25% off Yellow Tags
URL:https://www.familypathways.org/calendar-event/25-off-yellow-tags-25/2025-08-06/
CATEGORIES:Thrift Stores
END:VEVENT
BEGIN:VEVENT
DTSTART;VALUE=DATE:20250807
DTEND;VALUE=DATE:20250808
DTSTAMP:20260421T194035
CREATED:20250616T170026Z
LAST-MODIFIED:20250616T170026Z
UID:10009257-1754524800-1754611199@www.familypathways.org
SUMMARY:25% off Yellow Tags
DESCRIPTION:25% off Yellow Tags
URL:https://www.familypathways.org/calendar-event/25-off-yellow-tags-25/2025-08-07/
CATEGORIES:Thrift Stores
END:VEVENT
BEGIN:VEVENT
DTSTART;VALUE=DATE:20250811
DTEND;VALUE=DATE:20250812
DTSTAMP:20260421T194035
CREATED:20250519T165345Z
LAST-MODIFIED:20250519T165345Z
UID:10009012-1754870400-1754956799@www.familypathways.org
SUMMARY:Double Pathways Perks Points
DESCRIPTION:Earn double Pathways Perks Points on a minimum $15 purchase each Monday. \n*This promotion may be suspended in concurrence with other sale events and promotions. Double points are applied to the pre-tax qualifying purchase amount. Double points will not be applied to other bonuses\, including but not limited to Welcome Bonus Points\, Birthday Bonus Points\, or Donation Loyalty Rewards.
URL:https://www.familypathways.org/calendar-event/double-pathways-perks-points-4/2025-08-11/
CATEGORIES:Thrift Stores
END:VEVENT
END:VCALENDAR