BEGIN:VCALENDAR
VERSION:2.0
PRODID:-//Family Pathways - ECPv6.15.20//NONSGML v1.0//EN
CALSCALE:GREGORIAN
METHOD:PUBLISH
X-WR-CALNAME:Family Pathways
X-ORIGINAL-URL:https://www.familypathways.org
X-WR-CALDESC:Events for Family Pathways
REFRESH-INTERVAL;VALUE=DURATION:PT1H
X-Robots-Tag:noindex
X-PUBLISHED-TTL:PT1H
BEGIN:VTIMEZONE
TZID:America/Chicago
BEGIN:DAYLIGHT
TZOFFSETFROM:-0600
TZOFFSETTO:-0500
TZNAME:CDT
DTSTART:20240310T080000
END:DAYLIGHT
BEGIN:STANDARD
TZOFFSETFROM:-0500
TZOFFSETTO:-0600
TZNAME:CST
DTSTART:20241103T070000
END:STANDARD
BEGIN:DAYLIGHT
TZOFFSETFROM:-0600
TZOFFSETTO:-0500
TZNAME:CDT
DTSTART:20250309T080000
END:DAYLIGHT
BEGIN:STANDARD
TZOFFSETFROM:-0500
TZOFFSETTO:-0600
TZNAME:CST
DTSTART:20251102T070000
END:STANDARD
BEGIN:DAYLIGHT
TZOFFSETFROM:-0600
TZOFFSETTO:-0500
TZNAME:CDT
DTSTART:20260308T080000
END:DAYLIGHT
BEGIN:STANDARD
TZOFFSETFROM:-0500
TZOFFSETTO:-0600
TZNAME:CST
DTSTART:20261101T070000
END:STANDARD
END:VTIMEZONE
BEGIN:VEVENT
DTSTART;VALUE=DATE:20250521
DTEND;VALUE=DATE:20250522
DTSTAMP:20260422T031311
CREATED:20250320T211037Z
LAST-MODIFIED:20250320T211736Z
UID:10008977-1747785600-1747871999@www.familypathways.org
SUMMARY:75% off Pink Tags
DESCRIPTION:75% off Pink Tags
URL:https://www.familypathways.org/calendar-event/75-off-pink-tags-11/2025-05-21/
CATEGORIES:Thrift Stores
END:VEVENT
BEGIN:VEVENT
DTSTART;VALUE=DATE:20250520
DTEND;VALUE=DATE:20250521
DTSTAMP:20260422T031311
CREATED:20190301T180920Z
LAST-MODIFIED:20241010T195355Z
UID:10008616-1747699200-1747785599@www.familypathways.org
SUMMARY:Senior/Military Discount Day
DESCRIPTION:Every Tuesday\, seniors and members of the military receive an additional 25% off their entire purchase. Some exclusions may apply. May not be combined with Road Trip Sales\, coupons\, or other discounts.
URL:https://www.familypathways.org/calendar-event/senior-military-discount-day/2025-05-20/
LOCATION:All Family Pathways Thrift Store Locations
CATEGORIES:Thrift Stores
END:VEVENT
BEGIN:VEVENT
DTSTART;VALUE=DATE:20250519
DTEND;VALUE=DATE:20250520
DTSTAMP:20260422T031311
CREATED:20230714T170455Z
LAST-MODIFIED:20241002T142933Z
UID:10008503-1747612800-1747699199@www.familypathways.org
SUMMARY:Double Pathways Perks Points
DESCRIPTION:Earn double Pathways Perks Points on qualifying purchases of $15 or more.
URL:https://www.familypathways.org/calendar-event/double-pathways-perks-points-3/2025-05-19/
CATEGORIES:Thrift Stores
END:VEVENT
BEGIN:VEVENT
DTSTART;VALUE=DATE:20250518
DTEND;VALUE=DATE:20250519
DTSTAMP:20260422T031311
CREATED:20250320T202520Z
LAST-MODIFIED:20250320T202520Z
UID:10008974-1747526400-1747612799@www.familypathways.org
SUMMARY:Up North - Lindstrom\, North Branch\, St. Croix Falls
DESCRIPTION:Get Ready for the Ultimate Up North Event! \nJoin us for a fun-filled shopping spree at our Up North Event! Whether you’re preparing for summer at the lake or simply love the cozy cabin life\, we’ve got everything you need. \nWhat to Expect: \n\nCabin Décor: Spruce up your cabin with unique and charming decorations.\nLake Shore Essentials: From sporting goods to swimwear\, find all your lake shore necessities.\nToys and More: Keep the kids entertained with a variety of fun toys and games.\n\nDon’t miss out on this fantastic event! May 16-18 at our Lindstrom\, North Branch\, and St. Croix Falls Thrift Stores.
URL:https://www.familypathways.org/calendar-event/up-north-lindstrom-north-branch-st-croix-falls/2025-05-18/
CATEGORIES:Thrift Stores
END:VEVENT
BEGIN:VEVENT
DTSTART;VALUE=DATE:20250517
DTEND;VALUE=DATE:20250518
DTSTAMP:20260422T031311
CREATED:20250320T202520Z
LAST-MODIFIED:20250320T202520Z
UID:10008973-1747440000-1747526399@www.familypathways.org
SUMMARY:Up North - Lindstrom\, North Branch\, St. Croix Falls
DESCRIPTION:Get Ready for the Ultimate Up North Event! \nJoin us for a fun-filled shopping spree at our Up North Event! Whether you’re preparing for summer at the lake or simply love the cozy cabin life\, we’ve got everything you need. \nWhat to Expect: \n\nCabin Décor: Spruce up your cabin with unique and charming decorations.\nLake Shore Essentials: From sporting goods to swimwear\, find all your lake shore necessities.\nToys and More: Keep the kids entertained with a variety of fun toys and games.\n\nDon’t miss out on this fantastic event! May 16-18 at our Lindstrom\, North Branch\, and St. Croix Falls Thrift Stores.
URL:https://www.familypathways.org/calendar-event/up-north-lindstrom-north-branch-st-croix-falls/2025-05-17/
CATEGORIES:Thrift Stores
END:VEVENT
BEGIN:VEVENT
DTSTART;VALUE=DATE:20250516
DTEND;VALUE=DATE:20250517
DTSTAMP:20260422T031311
CREATED:20250320T202520Z
LAST-MODIFIED:20250320T202520Z
UID:10008972-1747353600-1747439999@www.familypathways.org
SUMMARY:Up North - Lindstrom\, North Branch\, St. Croix Falls
DESCRIPTION:Get Ready for the Ultimate Up North Event! \nJoin us for a fun-filled shopping spree at our Up North Event! Whether you’re preparing for summer at the lake or simply love the cozy cabin life\, we’ve got everything you need. \nWhat to Expect: \n\nCabin Décor: Spruce up your cabin with unique and charming decorations.\nLake Shore Essentials: From sporting goods to swimwear\, find all your lake shore necessities.\nToys and More: Keep the kids entertained with a variety of fun toys and games.\n\nDon’t miss out on this fantastic event! May 16-18 at our Lindstrom\, North Branch\, and St. Croix Falls Thrift Stores.
URL:https://www.familypathways.org/calendar-event/up-north-lindstrom-north-branch-st-croix-falls/2025-05-16/
CATEGORIES:Thrift Stores
END:VEVENT
BEGIN:VEVENT
DTSTART;VALUE=DATE:20250515
DTEND;VALUE=DATE:20250516
DTSTAMP:20260422T031311
CREATED:20250320T210951Z
LAST-MODIFIED:20250320T211804Z
UID:10008980-1747267200-1747353599@www.familypathways.org
SUMMARY:50% off Pink Tags
DESCRIPTION:50% off Pink Tags
URL:https://www.familypathways.org/calendar-event/50-off-pink-tags-27/2025-05-15/
CATEGORIES:Thrift Stores
END:VEVENT
BEGIN:VEVENT
DTSTART;VALUE=DATE:20250514
DTEND;VALUE=DATE:20250515
DTSTAMP:20260422T031311
CREATED:20250320T210951Z
LAST-MODIFIED:20250320T211804Z
UID:10008979-1747180800-1747267199@www.familypathways.org
SUMMARY:50% off Pink Tags
DESCRIPTION:50% off Pink Tags
URL:https://www.familypathways.org/calendar-event/50-off-pink-tags-27/2025-05-14/
CATEGORIES:Thrift Stores
END:VEVENT
BEGIN:VEVENT
DTSTART;VALUE=DATE:20250513
DTEND;VALUE=DATE:20250514
DTSTAMP:20260422T031311
CREATED:20190301T180920Z
LAST-MODIFIED:20241010T195355Z
UID:10008404-1747094400-1747180799@www.familypathways.org
SUMMARY:Senior/Military Discount Day
DESCRIPTION:Every Tuesday\, seniors and members of the military receive an additional 25% off their entire purchase. Some exclusions may apply. May not be combined with Road Trip Sales\, coupons\, or other discounts.
URL:https://www.familypathways.org/calendar-event/senior-military-discount-day/2025-05-13/
LOCATION:All Family Pathways Thrift Store Locations
CATEGORIES:Thrift Stores
END:VEVENT
BEGIN:VEVENT
DTSTART;VALUE=DATE:20250512
DTEND;VALUE=DATE:20250513
DTSTAMP:20260422T031311
CREATED:20230714T170455Z
LAST-MODIFIED:20241002T142933Z
UID:10008502-1747008000-1747094399@www.familypathways.org
SUMMARY:Double Pathways Perks Points
DESCRIPTION:Earn double Pathways Perks Points on qualifying purchases of $15 or more.
URL:https://www.familypathways.org/calendar-event/double-pathways-perks-points-3/2025-05-12/
CATEGORIES:Thrift Stores
END:VEVENT
BEGIN:VEVENT
DTSTART;VALUE=DATE:20250508
DTEND;VALUE=DATE:20250509
DTSTAMP:20260422T031311
CREATED:20250320T210855Z
LAST-MODIFIED:20250320T211824Z
UID:10008982-1746662400-1746748799@www.familypathways.org
SUMMARY:25% off Pink Tags
DESCRIPTION:25% off Pink Tags
URL:https://www.familypathways.org/calendar-event/25-off-pink-tags-32/2025-05-08/
CATEGORIES:Thrift Stores
END:VEVENT
BEGIN:VEVENT
DTSTART;VALUE=DATE:20250507
DTEND;VALUE=DATE:20250508
DTSTAMP:20260422T031311
CREATED:20250320T210855Z
LAST-MODIFIED:20250320T211824Z
UID:10008981-1746576000-1746662399@www.familypathways.org
SUMMARY:25% off Pink Tags
DESCRIPTION:25% off Pink Tags
URL:https://www.familypathways.org/calendar-event/25-off-pink-tags-32/2025-05-07/
CATEGORIES:Thrift Stores
END:VEVENT
BEGIN:VEVENT
DTSTART;VALUE=DATE:20250506
DTEND;VALUE=DATE:20250507
DTSTAMP:20260422T031311
CREATED:20190301T180920Z
LAST-MODIFIED:20241010T195355Z
UID:10008403-1746489600-1746575999@www.familypathways.org
SUMMARY:Senior/Military Discount Day
DESCRIPTION:Every Tuesday\, seniors and members of the military receive an additional 25% off their entire purchase. Some exclusions may apply. May not be combined with Road Trip Sales\, coupons\, or other discounts.
URL:https://www.familypathways.org/calendar-event/senior-military-discount-day/2025-05-06/
LOCATION:All Family Pathways Thrift Store Locations
CATEGORIES:Thrift Stores
END:VEVENT
BEGIN:VEVENT
DTSTART;VALUE=DATE:20250505
DTEND;VALUE=DATE:20250506
DTSTAMP:20260422T031311
CREATED:20230714T170455Z
LAST-MODIFIED:20241002T142933Z
UID:10008501-1746403200-1746489599@www.familypathways.org
SUMMARY:Double Pathways Perks Points
DESCRIPTION:Earn double Pathways Perks Points on qualifying purchases of $15 or more.
URL:https://www.familypathways.org/calendar-event/double-pathways-perks-points-3/2025-05-05/
CATEGORIES:Thrift Stores
END:VEVENT
BEGIN:VEVENT
DTSTART;VALUE=DATE:20250503
DTEND;VALUE=DATE:20250504
DTSTAMP:20260422T031311
CREATED:20250320T202308Z
LAST-MODIFIED:20250320T202308Z
UID:10008971-1746230400-1746316799@www.familypathways.org
SUMMARY:Grandma's Attic - Princeton Thrift Store only
DESCRIPTION:Step into a world of nostalgia and fun at our fourth annual Grandma’s Attic event! Starting May 2\, Family Pathways Thrift Store in Princeton invites you to explore a delightful collection of antiques\, vintage toys\, jewelry\, accessories\, kitchenware\, home decor\, and more. This event is perfect for anyone looking to recapture the charm and memories of yesteryear. \nWhether you’re a collector\, a vintage enthusiast\, or simply looking for a unique shopping experience\, Grandma’s Attic has something special for everyone. Don’t miss this opportunity to take a walk down memory lane and discover treasures that will bring back fond memories. \nJoin us and make new memories while celebrating the old ones. We look forward to seeing you there! \nHighlights: \n\nAntiques\nVintage Toys\nJewelry\nAccessories\nKitchenware\nHome Decor
URL:https://www.familypathways.org/calendar-event/grandmas-attic-princeton-thrift-store-only-2/2025-05-03/
LOCATION:Family Pathways Thrift Store Princeton\, 605 S Rum River Dr\, Princeton\, MN\, 55371\, United States
CATEGORIES:Thrift Stores
END:VEVENT
BEGIN:VEVENT
DTSTART;VALUE=DATE:20250502
DTEND;VALUE=DATE:20250503
DTSTAMP:20260422T031311
CREATED:20250320T202308Z
LAST-MODIFIED:20250320T202308Z
UID:10008970-1746144000-1746230399@www.familypathways.org
SUMMARY:Grandma's Attic - Princeton Thrift Store only
DESCRIPTION:Step into a world of nostalgia and fun at our fourth annual Grandma’s Attic event! Starting May 2\, Family Pathways Thrift Store in Princeton invites you to explore a delightful collection of antiques\, vintage toys\, jewelry\, accessories\, kitchenware\, home decor\, and more. This event is perfect for anyone looking to recapture the charm and memories of yesteryear. \nWhether you’re a collector\, a vintage enthusiast\, or simply looking for a unique shopping experience\, Grandma’s Attic has something special for everyone. Don’t miss this opportunity to take a walk down memory lane and discover treasures that will bring back fond memories. \nJoin us and make new memories while celebrating the old ones. We look forward to seeing you there! \nHighlights: \n\nAntiques\nVintage Toys\nJewelry\nAccessories\nKitchenware\nHome Decor
URL:https://www.familypathways.org/calendar-event/grandmas-attic-princeton-thrift-store-only-2/2025-05-02/
LOCATION:Family Pathways Thrift Store Princeton\, 605 S Rum River Dr\, Princeton\, MN\, 55371\, United States
CATEGORIES:Thrift Stores
END:VEVENT
BEGIN:VEVENT
DTSTART;VALUE=DATE:20250430
DTEND;VALUE=DATE:20250501
DTSTAMP:20260422T031311
CREATED:20250219T174047Z
LAST-MODIFIED:20250219T174047Z
UID:10008959-1745971200-1746057599@www.familypathways.org
SUMMARY:90% off Yellow Tags
DESCRIPTION:90% off Yellow Tags
URL:https://www.familypathways.org/calendar-event/90-off-yellow-tags-17/
CATEGORIES:Thrift Stores
END:VEVENT
BEGIN:VEVENT
DTSTART;VALUE=DATE:20250429
DTEND;VALUE=DATE:20250430
DTSTAMP:20260422T031311
CREATED:20190301T180920Z
LAST-MODIFIED:20241010T195355Z
UID:10008402-1745884800-1745971199@www.familypathways.org
SUMMARY:Senior/Military Discount Day
DESCRIPTION:Every Tuesday\, seniors and members of the military receive an additional 25% off their entire purchase. Some exclusions may apply. May not be combined with Road Trip Sales\, coupons\, or other discounts.
URL:https://www.familypathways.org/calendar-event/senior-military-discount-day/2025-04-29/
LOCATION:All Family Pathways Thrift Store Locations
CATEGORIES:Thrift Stores
END:VEVENT
BEGIN:VEVENT
DTSTART;VALUE=DATE:20250428
DTEND;VALUE=DATE:20250429
DTSTAMP:20260422T031311
CREATED:20230714T170455Z
LAST-MODIFIED:20241002T142933Z
UID:10008500-1745798400-1745884799@www.familypathways.org
SUMMARY:Double Pathways Perks Points
DESCRIPTION:Earn double Pathways Perks Points on qualifying purchases of $15 or more.
URL:https://www.familypathways.org/calendar-event/double-pathways-perks-points-3/2025-04-28/
CATEGORIES:Thrift Stores
END:VEVENT
BEGIN:VEVENT
DTSTART;VALUE=DATE:20250424
DTEND;VALUE=DATE:20250425
DTSTAMP:20260422T031311
CREATED:20250219T174013Z
LAST-MODIFIED:20250219T174013Z
UID:10008958-1745452800-1745539199@www.familypathways.org
SUMMARY:75% off Yellow Tags
DESCRIPTION:75% off Yellow Tags
URL:https://www.familypathways.org/calendar-event/75-off-yellow-tags-11/2025-04-24/
CATEGORIES:Thrift Stores
END:VEVENT
BEGIN:VEVENT
DTSTART;VALUE=DATE:20250423
DTEND;VALUE=DATE:20250424
DTSTAMP:20260422T031311
CREATED:20250219T174013Z
LAST-MODIFIED:20250219T174013Z
UID:10008957-1745366400-1745452799@www.familypathways.org
SUMMARY:75% off Yellow Tags
DESCRIPTION:75% off Yellow Tags
URL:https://www.familypathways.org/calendar-event/75-off-yellow-tags-11/2025-04-23/
CATEGORIES:Thrift Stores
END:VEVENT
BEGIN:VEVENT
DTSTART;VALUE=DATE:20250422
DTEND;VALUE=DATE:20250423
DTSTAMP:20260422T031311
CREATED:20190301T180920Z
LAST-MODIFIED:20241010T195355Z
UID:10008401-1745280000-1745366399@www.familypathways.org
SUMMARY:Senior/Military Discount Day
DESCRIPTION:Every Tuesday\, seniors and members of the military receive an additional 25% off their entire purchase. Some exclusions may apply. May not be combined with Road Trip Sales\, coupons\, or other discounts.
URL:https://www.familypathways.org/calendar-event/senior-military-discount-day/2025-04-22/
LOCATION:All Family Pathways Thrift Store Locations
CATEGORIES:Thrift Stores
END:VEVENT
BEGIN:VEVENT
DTSTART;VALUE=DATE:20250421
DTEND;VALUE=DATE:20250422
DTSTAMP:20260422T031311
CREATED:20230714T170455Z
LAST-MODIFIED:20241002T142933Z
UID:10008499-1745193600-1745279999@www.familypathways.org
SUMMARY:Double Pathways Perks Points
DESCRIPTION:Earn double Pathways Perks Points on qualifying purchases of $15 or more.
URL:https://www.familypathways.org/calendar-event/double-pathways-perks-points-3/2025-04-21/
CATEGORIES:Thrift Stores
END:VEVENT
BEGIN:VEVENT
DTSTART;VALUE=DATE:20250417
DTEND;VALUE=DATE:20250418
DTSTAMP:20260422T031311
CREATED:20250219T173920Z
LAST-MODIFIED:20250219T173920Z
UID:10008956-1744848000-1744934399@www.familypathways.org
SUMMARY:50% off Yellow Tags
DESCRIPTION:50% off Yellow Tags
URL:https://www.familypathways.org/calendar-event/50-off-yellow-tags-26/2025-04-17/
CATEGORIES:Thrift Stores
END:VEVENT
BEGIN:VEVENT
DTSTART;VALUE=DATE:20250416
DTEND;VALUE=DATE:20250417
DTSTAMP:20260422T031311
CREATED:20250219T173920Z
LAST-MODIFIED:20250219T173920Z
UID:10008955-1744761600-1744847999@www.familypathways.org
SUMMARY:50% off Yellow Tags
DESCRIPTION:50% off Yellow Tags
URL:https://www.familypathways.org/calendar-event/50-off-yellow-tags-26/2025-04-16/
CATEGORIES:Thrift Stores
END:VEVENT
BEGIN:VEVENT
DTSTART;VALUE=DATE:20250415
DTEND;VALUE=DATE:20250416
DTSTAMP:20260422T031311
CREATED:20190301T180920Z
LAST-MODIFIED:20241010T195355Z
UID:10008400-1744675200-1744761599@www.familypathways.org
SUMMARY:Senior/Military Discount Day
DESCRIPTION:Every Tuesday\, seniors and members of the military receive an additional 25% off their entire purchase. Some exclusions may apply. May not be combined with Road Trip Sales\, coupons\, or other discounts.
URL:https://www.familypathways.org/calendar-event/senior-military-discount-day/2025-04-15/
LOCATION:All Family Pathways Thrift Store Locations
CATEGORIES:Thrift Stores
END:VEVENT
BEGIN:VEVENT
DTSTART;VALUE=DATE:20250414
DTEND;VALUE=DATE:20250415
DTSTAMP:20260422T031311
CREATED:20250219T171033Z
LAST-MODIFIED:20250219T173558Z
UID:10008950-1744588800-1744675199@www.familypathways.org
SUMMARY:5 on 35 Progressive Sale
DESCRIPTION:You can follow the savings along Interstate 35 with Family Pathways Thrift Stores’ annual 5 on 35 Progressive Sale Event. Visit each of our 5 locations on Interstate 35 and save up to 35% with your progressive sale coupon. Discount increases with each location you visit. \nSee more details here.
URL:https://www.familypathways.org/calendar-event/5-on-35-progressive-sale-3/2025-04-14/
CATEGORIES:Thrift Stores
END:VEVENT
BEGIN:VEVENT
DTSTART;VALUE=DATE:20250414
DTEND;VALUE=DATE:20250415
DTSTAMP:20260422T031311
CREATED:20230714T170455Z
LAST-MODIFIED:20241002T142933Z
UID:10008498-1744588800-1744675199@www.familypathways.org
SUMMARY:Double Pathways Perks Points
DESCRIPTION:Earn double Pathways Perks Points on qualifying purchases of $15 or more.
URL:https://www.familypathways.org/calendar-event/double-pathways-perks-points-3/2025-04-14/
CATEGORIES:Thrift Stores
END:VEVENT
BEGIN:VEVENT
DTSTART;VALUE=DATE:20250413
DTEND;VALUE=DATE:20250414
DTSTAMP:20260422T031311
CREATED:20250219T171033Z
LAST-MODIFIED:20250219T173558Z
UID:10008949-1744502400-1744588799@www.familypathways.org
SUMMARY:5 on 35 Progressive Sale
DESCRIPTION:You can follow the savings along Interstate 35 with Family Pathways Thrift Stores’ annual 5 on 35 Progressive Sale Event. Visit each of our 5 locations on Interstate 35 and save up to 35% with your progressive sale coupon. Discount increases with each location you visit. \nSee more details here.
URL:https://www.familypathways.org/calendar-event/5-on-35-progressive-sale-3/2025-04-13/
CATEGORIES:Thrift Stores
END:VEVENT
BEGIN:VEVENT
DTSTART;VALUE=DATE:20250412
DTEND;VALUE=DATE:20250413
DTSTAMP:20260422T031311
CREATED:20250219T171033Z
LAST-MODIFIED:20250219T173558Z
UID:10008948-1744416000-1744502399@www.familypathways.org
SUMMARY:5 on 35 Progressive Sale
DESCRIPTION:You can follow the savings along Interstate 35 with Family Pathways Thrift Stores’ annual 5 on 35 Progressive Sale Event. Visit each of our 5 locations on Interstate 35 and save up to 35% with your progressive sale coupon. Discount increases with each location you visit. \nSee more details here.
URL:https://www.familypathways.org/calendar-event/5-on-35-progressive-sale-3/2025-04-12/
CATEGORIES:Thrift Stores
END:VEVENT
END:VCALENDAR